BEGIN:VCALENDAR
VERSION:2.0
METHOD:PUBLISH
PRODID:-//Accessible Web Design//My Calendar//http://www.joedolson.com//v//EN';
BEGIN:VEVENT
UID:11-11
LOCATION:Grundschule Dohr Hauptstr. 1c  Dohr RLP 56812
SUMMARY:Ostermontag
DTSTAMP:20240401T000000
ORGANIZER;CN=Christian Schüler:MAILTO:admin@gs-dohr.de
DTSTART:20240401T000000
DTEND:20240401T010000
CATEGORIES:Feiertag
URL;VALUE=URI:https://www.grundschule-dohr.de/mc-events/ostermontag/?mc_id=11
DESCRIPTION:
END:VEVENT
END:VCALENDAR