BEGIN:VCALENDAR
VERSION:2.0
METHOD:PUBLISH
PRODID:-//Accessible Web Design//My Calendar//http://www.joedolson.com//v//EN';
BEGIN:VEVENT
UID:16-15
LOCATION:Grundschule Dohr Hauptstr. 1c  Dohr RLP 56812
SUMMARY:Känguru der Mathematik
DTSTAMP:20240418T080000
ORGANIZER;CN=Christian Schüler:MAILTO:admin@gs-dohr.de
DTSTART:20240418T080000
DTEND:20240418T090000
CATEGORIES:Schulveranstaltung
URL;VALUE=URI:https://www.grundschule-dohr.de/mc-events/kaenguru-der-mathematik/?mc_id=16
DESCRIPTION:Mathematikwettbewerb der Klassenstufen 2 bis 4.
END:VEVENT
END:VCALENDAR