BEGIN:VCALENDAR
VERSION:2.0
METHOD:PUBLISH
PRODID:-//Accessible Web Design//My Calendar//http://www.joedolson.com//v//EN';
BEGIN:VEVENT
UID:18-16
LOCATION:Grundschule Dohr Hauptstr. 1c  Dohr RLP 56812
SUMMARY:Schnuppermobil Tischtennis
DTSTAMP:20240412T074500
ORGANIZER;CN=Christian Schüler:MAILTO:admin@gs-dohr.de
DTSTART:20240412T074500
DTEND:20240412T124500
CATEGORIES:Sportveranstaltung
URL;VALUE=URI:https://www.grundschule-dohr.de/mc-events/schnuppermobil-tischtennis/?mc_id=18
DESCRIPTION:Kennenlernen der Sportart in Kooperation mit dem Tischtennis Club Dohr.
END:VEVENT
END:VCALENDAR