BEGIN:VCALENDAR
VERSION:2.0
METHOD:PUBLISH
PRODID:-//Accessible Web Design//My Calendar//http://www.joedolson.com//v//EN';
BEGIN:VEVENT
UID:20-18
LOCATION:Grundschule Dohr Hauptstr. 1c  Dohr RLP 56812
SUMMARY:Sportfest
DTSTAMP:20240508T074500
ORGANIZER;CN=Christian Schüler:MAILTO:admin@gs-dohr.de
DTSTART:20240508T074500
DTEND:20240508T084500
CATEGORIES:Sportveranstaltung
URL;VALUE=URI:https://www.grundschule-dohr.de/mc-events/sportfest/?mc_id=20
DESCRIPTION:Vielseitigkeitswettbewerb Achten Sie darauf, Ihren Kindern dem Wetter entsprechende Sportkleidung mitzugeben und genügend Wasser.
END:VEVENT
END:VCALENDAR