BEGIN:VCALENDAR
VERSION:2.0
METHOD:PUBLISH
PRODID:-//Accessible Web Design//My Calendar//http://www.joedolson.com//v//EN';
BEGIN:VEVENT
UID:9-9
LOCATION:Grundschule Dohr Hauptstr. 1c  Dohr RLP 56812
SUMMARY:Karfreitag
DTSTAMP:20240329T000000
ORGANIZER;CN=Christian Schüler:MAILTO:admin@gs-dohr.de
DTSTART:20240329T000000
DTEND:20240329T010000
CATEGORIES:Feiertag
URL;VALUE=URI:https://www.grundschule-dohr.de/mc-events/karfreitag/?mc_id=9
DESCRIPTION:
END:VEVENT
END:VCALENDAR