BEGIN:VCALENDAR
VERSION:2.0
METHOD:PUBLISH
PRODID:-//Accessible Web Design//My Calendar//http://www.joedolson.com//v//EN';
BEGIN:VEVENT
UID:10-10
LOCATION:Grundschule Dohr Hauptstr. 1c  Dohr RLP 56812
SUMMARY:Ostersonntag
DTSTAMP:20240331T000000
ORGANIZER;CN=Christian Schüler:MAILTO:admin@gs-dohr.de
DTSTART:20240331T000000
DTEND:20240331T010000
CATEGORIES:Feiertag
URL;VALUE=URI:https://www.grundschule-dohr.de/mc-events/ostersonntag/?mc_id=10
DESCRIPTION:
END:VEVENT
END:VCALENDAR