BEGIN:VCALENDAR
VERSION:2.0
METHOD:PUBLISH
PRODID:-//Accessible Web Design//My Calendar//http://www.joedolson.com//v//EN';
BEGIN:VEVENT
UID:2-2
LOCATION:Grundschule Dohr Hauptstr. 1c  Dohr RLP 56812
SUMMARY:Osterferien
DTSTAMP:20240325
ORGANIZER;CN=Christian Schüler:MAILTO:admin@gs-dohr.de
DTSTART:20240325
DTEND:20240403
CATEGORIES:Ferien
URL;VALUE=URI:https://www.grundschule-dohr.de/mc-events/osterferien/?mc_id=2
DESCRIPTION:Osterferien - Kein Schulunterricht
X-FUNAMBOL-ALLDAY: 1
X-MICROSOFT-CDO-ALLDAYEVENT: TRUE

END:VEVENT
END:VCALENDAR